BEGIN:VCALENDAR
VERSION:2.0
PRODID:-//Squarespace Inc/Squarespace 6//v6//EN
BEGIN:VEVENT
UID:59f8ee600852299ce9fe485a@squarespace.com
DTSTAMP:20171031T214915Z
DTSTART:20171101T154500Z
DTEND:20171101T163000Z
SUMMARY:Obama Foundation Summit: CONVERSATION WITH MRS. OBAMA
GEO:41.853129;-87.620232
LOCATION:Marriott Marquis\, 2121 South Prairie Avenue\, Chicago\, IL\, 6061
 6\, United States
END:VEVENT
END:VCALENDAR
