BEGIN:VCALENDAR
VERSION:2.0
PRODID:-//Squarespace Inc/Squarespace 6//v6//EN
BEGIN:VEVENT
UID:594d5019893fc02870e6e7eb@squarespace.com
DTSTAMP:20170623T173226Z
DTSTART:20171004T230000Z
DTEND:20171005T000000Z
SUMMARY:Academy of American Poets Chancellors Reading at the 92nd street Y
END:VEVENT
END:VCALENDAR
