BEGIN:VCALENDAR
VERSION:2.0
PRODID:-//Squarespace Inc/Squarespace 6//v6//EN
BEGIN:VEVENT
UID:59f8f4b56c31945e330daeab@squarespace.com
DTSTAMP:20171031T221436Z
DTSTART:20171114T003000Z
DTEND:20171114T023000Z
SUMMARY:A Celebration of Gwendolyn Brooks
GEO:40.782934;-73.952515
LOCATION:92nd Street Y\, 1395 Lexington Avenue\, New York\, NY\, 10128\, Un
 ited States
END:VEVENT
END:VCALENDAR
