BEGIN:VCALENDAR
VERSION:2.0
PRODID:-//Squarespace Inc/Squarespace 6//v6//EN
BEGIN:VEVENT
UID:594d521b1e5b6c2d156c9e20@squarespace.com
DTSTAMP:20170623T174139Z
DTSTART:20170627T213000Z
DTEND:20170627T223000Z
SUMMARY:Aspen Ideas Festival: Wine and Sign
END:VEVENT
END:VCALENDAR
