BEGIN:VCALENDAR
VERSION:2.0
PRODID:-//Squarespace Inc/Squarespace 6//v6//EN
BEGIN:VEVENT
UID:594d50fa9de4bb3ad5d5549c@squarespace.com
DTSTAMP:20170623T173826Z
DTSTART:20170628T180000Z
DTEND:20170628T210000Z
SUMMARY:Aspen Ideas Festival: Afternoon of Conversation
END:VEVENT
END:VCALENDAR
