BEGIN:VCALENDAR
VERSION:2.0
PRODID:-//Squarespace Inc/Squarespace 6//v6//EN
BEGIN:VEVENT
UID:5914eba844024311d8f083f8@squarespace.com
DTSTAMP:20170511T225802Z
DTSTART:20170719T230000Z
DTEND:20170720T010000Z
SUMMARY:Women of the Movement: Winnie Mandela
END:VEVENT
END:VCALENDAR
