BEGIN:VCALENDAR
VERSION:2.0
PRODID:-//Squarespace Inc/Squarespace 6//v6//EN
BEGIN:VEVENT
UID:594d4c0d6b8f5b1b42ac888b@squarespace.com
DTSTAMP:20170623T172715Z
DTSTART:20170925T230000Z
DTEND:20170926T003000Z
SUMMARY:Academy of American Poets in Conversation 
END:VEVENT
END:VCALENDAR
