BEGIN:VCALENDAR
VERSION:2.0
PRODID:-//Squarespace Inc/Squarespace 6//v6//EN
BEGIN:VEVENT
UID:594d4f9eb3db2b099a17eea8@squarespace.com
DTSTAMP:20170623T172953Z
DTSTART:20170907T220000Z
DTEND:20170908T000000Z
SUMMARY:NYPL in Conversation with  Atul Gawande september 7
END:VEVENT
END:VCALENDAR
